BEGIN:VCALENDAR
VERSION:2.0
PRODID:-//PARIGNE - 35133 - ECPv6.15.20//NONSGML v1.0//EN
CALSCALE:GREGORIAN
METHOD:PUBLISH
X-WR-CALNAME:PARIGNE - 35133
X-ORIGINAL-URL:https://parigne.fr
X-WR-CALDESC:Évènements pour PARIGNE - 35133
REFRESH-INTERVAL;VALUE=DURATION:PT1H
X-Robots-Tag:noindex
X-PUBLISHED-TTL:PT1H
BEGIN:VTIMEZONE
TZID:Europe/Paris
BEGIN:DAYLIGHT
TZOFFSETFROM:+0100
TZOFFSETTO:+0200
TZNAME:CEST
DTSTART:20210328T010000
END:DAYLIGHT
BEGIN:STANDARD
TZOFFSETFROM:+0200
TZOFFSETTO:+0100
TZNAME:CET
DTSTART:20211031T010000
END:STANDARD
BEGIN:DAYLIGHT
TZOFFSETFROM:+0100
TZOFFSETTO:+0200
TZNAME:CEST
DTSTART:20220327T010000
END:DAYLIGHT
BEGIN:STANDARD
TZOFFSETFROM:+0200
TZOFFSETTO:+0100
TZNAME:CET
DTSTART:20221030T010000
END:STANDARD
BEGIN:DAYLIGHT
TZOFFSETFROM:+0100
TZOFFSETTO:+0200
TZNAME:CEST
DTSTART:20230326T010000
END:DAYLIGHT
BEGIN:STANDARD
TZOFFSETFROM:+0200
TZOFFSETTO:+0100
TZNAME:CET
DTSTART:20231029T010000
END:STANDARD
BEGIN:DAYLIGHT
TZOFFSETFROM:+0100
TZOFFSETTO:+0200
TZNAME:CEST
DTSTART:20240331T010000
END:DAYLIGHT
BEGIN:STANDARD
TZOFFSETFROM:+0200
TZOFFSETTO:+0100
TZNAME:CET
DTSTART:20241027T010000
END:STANDARD
END:VTIMEZONE
BEGIN:VEVENT
DTSTART;VALUE=DATE:20221115
DTEND;VALUE=DATE:20230313
DTSTAMP:20260425T173000
CREATED:20221211T172520Z
LAST-MODIFIED:20230314T141638Z
UID:943-1668470400-1678665599@parigne.fr
SUMMARY:Eclairage Public
DESCRIPTION:Face aux enjeux de sobriété énergétique\, les heures d’éclairage public sont réduites depuis le 1er décembre avec un allumage à 6h30 le matin et une extinction à 21h30 le soir. Du 1er mai au 1er septembre\, l’arrêt sera total. \nMerci de votre compréhension
URL:https://parigne.fr/event/eclairage-public/
CATEGORIES:Flash info
ATTACH;FMTTYPE=image/jpeg:https://parigne.fr/wp-content/uploads/2022/12/EclairagePublic-scaled.jpg
END:VEVENT
BEGIN:VEVENT
DTSTART;VALUE=DATE:20230215
DTEND;VALUE=DATE:20230313
DTSTAMP:20260425T173000
CREATED:20230207T153502Z
LAST-MODIFIED:20230314T141547Z
UID:2846-1676419200-1678665599@parigne.fr
SUMMARY:SMICTOM : Formation compostage et vente de composteur
DESCRIPTION:Dans le cadre du déploiement de la redevance incitative et de la nécessité de pouvoir trier ses biodéchets dès janvier 2024\, le SMICTOM propose différentes dates et différents lieux pour acquérir un composteur et se former aux techniques de compostage. \nPour cela il est nécessaire de s’inscrire sur le site internet du SMICTOM pour réserver le composteur de son choix et pouvoir le récupérer aux dates\, horaires et lieux choisis. \nLa session de retrait du composteur et de formation dure environ 30 minutes. Une fois inscrit\, nes animateurs vous recontacteront pour vous indiquer sur quel créneau horaire (entre 10h et 12h ou entre 14h30 et 16h30) vous présenter. A cette occasion\, des conseils sur les techniques pour démarrer et entretenir son compost seront donnés. \n📌Formation gratuite sur réservation \nRéservation par mail : animateurs.prevention@smictom-fougeres.fr\, par téléphone : 02 99 99 18 33 ou en complétant le formulaire sur cette page : https://www.smictom-fougeres.fr/reservation-de-composteur/ \nPlanning avec les dates\, horaires et lieux de retrait des composteurs : ICI \nVous pouvez retrouver toutes les informations sur le site internet du SMICTOM : Soit sur la page dédiée : https://www.smictom-fougeres.fr/reservation-de-composteur/ – Soit sur la page événements : https://www.smictom-fougeres.fr/evenements/ \n 
URL:https://parigne.fr/event/smictom-formation-compostage-et-vente-de-composteur/
LOCATION:SMICTOM du Pays de Fougères\, Allée Eugène Freyssinet\, JAVENE\, 35133\, France
CATEGORIES:Agenda,Flash info
ATTACH;FMTTYPE=image/jpeg:https://parigne.fr/wp-content/uploads/2023/02/image002.jpg
END:VEVENT
END:VCALENDAR