BEGIN:VCALENDAR
VERSION:2.0
PRODID:-//PARIGNE - 35133 - ECPv6.15.20//NONSGML v1.0//EN
CALSCALE:GREGORIAN
METHOD:PUBLISH
X-ORIGINAL-URL:https://parigne.fr
X-WR-CALDESC:Évènements pour PARIGNE - 35133
REFRESH-INTERVAL;VALUE=DURATION:PT1H
X-Robots-Tag:noindex
X-PUBLISHED-TTL:PT1H
BEGIN:VTIMEZONE
TZID:Europe/Paris
BEGIN:DAYLIGHT
TZOFFSETFROM:+0100
TZOFFSETTO:+0200
TZNAME:CEST
DTSTART:20210328T010000
END:DAYLIGHT
BEGIN:STANDARD
TZOFFSETFROM:+0200
TZOFFSETTO:+0100
TZNAME:CET
DTSTART:20211031T010000
END:STANDARD
BEGIN:DAYLIGHT
TZOFFSETFROM:+0100
TZOFFSETTO:+0200
TZNAME:CEST
DTSTART:20220327T010000
END:DAYLIGHT
BEGIN:STANDARD
TZOFFSETFROM:+0200
TZOFFSETTO:+0100
TZNAME:CET
DTSTART:20221030T010000
END:STANDARD
BEGIN:DAYLIGHT
TZOFFSETFROM:+0100
TZOFFSETTO:+0200
TZNAME:CEST
DTSTART:20230326T010000
END:DAYLIGHT
BEGIN:STANDARD
TZOFFSETFROM:+0200
TZOFFSETTO:+0100
TZNAME:CET
DTSTART:20231029T010000
END:STANDARD
BEGIN:DAYLIGHT
TZOFFSETFROM:+0100
TZOFFSETTO:+0200
TZNAME:CEST
DTSTART:20240331T010000
END:DAYLIGHT
BEGIN:STANDARD
TZOFFSETFROM:+0200
TZOFFSETTO:+0100
TZNAME:CET
DTSTART:20241027T010000
END:STANDARD
END:VTIMEZONE
BEGIN:VEVENT
DTSTART;VALUE=DATE:20221103
DTEND;VALUE=DATE:20230101
DTSTAMP:20260425T224645
CREATED:20221211T173357Z
LAST-MODIFIED:20230314T141431Z
UID:953-1667433600-1672531199@parigne.fr
SUMMARY:Cartes d'identité et Passeports
DESCRIPTION:Prise de rendez-vous en ligne : \n\n\n\n\n\n\n\n\nDemande de titres\n\n\n\n\n\n\n\n\n\nRemise de titres
URL:https://parigne.fr/event/cartes-didentite-et-passeports/
LOCATION:MAIRIE\, 23\, rue de la mairie\, PARIGNE\, 35133
CATEGORIES:Flash info
ATTACH;FMTTYPE=image/jpeg:https://parigne.fr/wp-content/uploads/2022/11/CNI_PSP.jpg
END:VEVENT
BEGIN:VEVENT
DTSTART;VALUE=DATE:20221115
DTEND;VALUE=DATE:20230313
DTSTAMP:20260425T224645
CREATED:20221211T172520Z
LAST-MODIFIED:20230314T141638Z
UID:943-1668470400-1678665599@parigne.fr
SUMMARY:Eclairage Public
DESCRIPTION:Face aux enjeux de sobriété énergétique\, les heures d’éclairage public sont réduites depuis le 1er décembre avec un allumage à 6h30 le matin et une extinction à 21h30 le soir. Du 1er mai au 1er septembre\, l’arrêt sera total. \nMerci de votre compréhension
URL:https://parigne.fr/event/eclairage-public/
CATEGORIES:Flash info
ATTACH;FMTTYPE=image/jpeg:https://parigne.fr/wp-content/uploads/2022/12/EclairagePublic-scaled.jpg
END:VEVENT
BEGIN:VEVENT
DTSTART;VALUE=DATE:20221224
DTEND;VALUE=DATE:20230101
DTSTAMP:20260425T224645
CREATED:20221213T161552Z
LAST-MODIFIED:20221213T161552Z
UID:1123-1671840000-1672531199@parigne.fr
SUMMARY:Fermeture déchetterie les 24 et 31 décembre 2022
DESCRIPTION:Fermeture de la déchetterie les 24 et 31 décembre 2022 \nOUVERTURE exceptionnelle les 23 et 30 décembre 2022 de 10H00 à 12H00
URL:https://parigne.fr/event/fermeture-dechetterie-les-24-et-31-decembre-2022/
LOCATION:Déchetterie\, 6\, rue de campello\, parigné\, 35133
CATEGORIES:Flash info
ATTACH;FMTTYPE=image/png:https://parigne.fr/wp-content/uploads/2022/12/logo-smictom-color@2x.png
END:VEVENT
BEGIN:VEVENT
DTSTART;TZID=Europe/Paris:20221224T080000
DTEND;TZID=Europe/Paris:20221224T170000
DTSTAMP:20260425T224645
CREATED:20221211T172305Z
LAST-MODIFIED:20221211T175750Z
UID:940-1671868800-1671901200@parigne.fr
SUMMARY:Fermeture de la Mairie
DESCRIPTION:La Mairie et l’Agence Postale Communale seront fermées les samedis 24 et 31 décembre 2022. \nMerci de votre compréhension.
URL:https://parigne.fr/event/fermeture-de-la-mairie/
LOCATION:MAIRIE\, 23\, rue de la mairie\, PARIGNE\, 35133
CATEGORIES:Flash info
ATTACH;FMTTYPE=image/png:https://parigne.fr/wp-content/uploads/2022/11/LogoPARIGNE_original.png
END:VEVENT
END:VCALENDAR